BEGIN:VCALENDAR
VERSION:2.0
PRODID:-//LEADER-Region Tor zum Erzgebirge - ECPv6.15.17.1//NONSGML v1.0//EN
CALSCALE:GREGORIAN
METHOD:PUBLISH
X-WR-CALNAME:LEADER-Region Tor zum Erzgebirge
X-ORIGINAL-URL:https://tor-zum-erzgebirge.de
X-WR-CALDESC:Veranstaltungen für LEADER-Region Tor zum Erzgebirge
REFRESH-INTERVAL;VALUE=DURATION:PT1H
X-Robots-Tag:noindex
X-PUBLISHED-TTL:PT1H
BEGIN:VTIMEZONE
TZID:Europe/Berlin
BEGIN:DAYLIGHT
TZOFFSETFROM:+0100
TZOFFSETTO:+0200
TZNAME:CEST
DTSTART:20250330T010000
END:DAYLIGHT
BEGIN:STANDARD
TZOFFSETFROM:+0200
TZOFFSETTO:+0100
TZNAME:CET
DTSTART:20251026T010000
END:STANDARD
BEGIN:DAYLIGHT
TZOFFSETFROM:+0100
TZOFFSETTO:+0200
TZNAME:CEST
DTSTART:20260329T010000
END:DAYLIGHT
BEGIN:STANDARD
TZOFFSETFROM:+0200
TZOFFSETTO:+0100
TZNAME:CET
DTSTART:20261025T010000
END:STANDARD
BEGIN:DAYLIGHT
TZOFFSETFROM:+0100
TZOFFSETTO:+0200
TZNAME:CEST
DTSTART:20270328T010000
END:DAYLIGHT
BEGIN:STANDARD
TZOFFSETFROM:+0200
TZOFFSETTO:+0100
TZNAME:CET
DTSTART:20271031T010000
END:STANDARD
END:VTIMEZONE
BEGIN:VEVENT
DTSTART;TZID=Europe/Berlin:20261008T180000
DTEND;TZID=Europe/Berlin:20261008T200000
DTSTAMP:20260425T203632
CREATED:20260202T123927Z
LAST-MODIFIED:20260202T123927Z
UID:4152-1791482400-1791489600@tor-zum-erzgebirge.de
SUMMARY:Ehrenamtswerkstatt: Wirtschaften im Verein – Möglichkeiten und Grenzen aus steuerlicher und gemeinnützigkeitsrechtlicher Sicht
DESCRIPTION:Weitere Infos folgen zu gegebener Zeit.
URL:https://tor-zum-erzgebirge.de/termine/ehrenamtswerkstatt-wirtschaften-im-verein-moeglichkeiten-und-grenzen-aus-steuerlicher-und-gemeinnuetzigkeitsrechtlicher-sicht/
LOCATION:LEADER-Region „Tor zum Erzgebirge“
CATEGORIES:Ehrenamtswerkstatt
END:VEVENT
END:VCALENDAR