BEGIN:VCALENDAR
VERSION:2.0
PRODID:-//LEADER-Region Tor zum Erzgebirge - ECPv6.15.17.1//NONSGML v1.0//EN
CALSCALE:GREGORIAN
METHOD:PUBLISH
X-WR-CALNAME:LEADER-Region Tor zum Erzgebirge
X-ORIGINAL-URL:https://tor-zum-erzgebirge.de
X-WR-CALDESC:Veranstaltungen für LEADER-Region Tor zum Erzgebirge
REFRESH-INTERVAL;VALUE=DURATION:PT1H
X-Robots-Tag:noindex
X-PUBLISHED-TTL:PT1H
BEGIN:VTIMEZONE
TZID:Europe/Berlin
BEGIN:DAYLIGHT
TZOFFSETFROM:+0100
TZOFFSETTO:+0200
TZNAME:CEST
DTSTART:20250330T010000
END:DAYLIGHT
BEGIN:STANDARD
TZOFFSETFROM:+0200
TZOFFSETTO:+0100
TZNAME:CET
DTSTART:20251026T010000
END:STANDARD
BEGIN:DAYLIGHT
TZOFFSETFROM:+0100
TZOFFSETTO:+0200
TZNAME:CEST
DTSTART:20260329T010000
END:DAYLIGHT
BEGIN:STANDARD
TZOFFSETFROM:+0200
TZOFFSETTO:+0100
TZNAME:CET
DTSTART:20261025T010000
END:STANDARD
BEGIN:DAYLIGHT
TZOFFSETFROM:+0100
TZOFFSETTO:+0200
TZNAME:CEST
DTSTART:20270328T010000
END:DAYLIGHT
BEGIN:STANDARD
TZOFFSETFROM:+0200
TZOFFSETTO:+0100
TZNAME:CET
DTSTART:20271031T010000
END:STANDARD
END:VTIMEZONE
BEGIN:VEVENT
DTSTART;TZID=Europe/Berlin:20260302T100000
DTEND;TZID=Europe/Berlin:20260302T110000
DTSTAMP:20260425T142838
CREATED:20260106T095450Z
LAST-MODIFIED:20260106T095450Z
UID:4034-1772445600-1772449200@tor-zum-erzgebirge.de
SUMMARY:Sitzung Länderrat Bundesarbeitsgemeinschaft Lokale Aktionsgruppen
DESCRIPTION:
URL:https://tor-zum-erzgebirge.de/termine/sitzung-laenderrat-bundesarbeitsgemeinschaft-lokale-aktionsgruppen-2/
LOCATION:online
CATEGORIES:Weitere Veranstaltungen
END:VEVENT
BEGIN:VEVENT
DTSTART;TZID=Europe/Berlin:20260302T150000
DTEND;TZID=Europe/Berlin:20260302T180000
DTSTAMP:20260425T142838
CREATED:20251203T101740Z
LAST-MODIFIED:20251203T101740Z
UID:3946-1772463600-1772474400@tor-zum-erzgebirge.de
SUMMARY:Kreativcafé Kaputt
DESCRIPTION:Beim Wohlfühl-Shirt ist die Naht aufgegangen? Der Henkel deiner Lieblingstasse hat sich verabschiedet? Bei deiner Nähmaschine dreht sich kein Rädchen mehr? Oder streiken Toaster und Staubsauger? Hierfür stehen unsere ehrenamtlichen Reparaturhelferinnen beim Kreativcafé ¿Kaputt? mit Rat und Tat zur Seite. \nDas Kreativcafé findet immer am 1. Montag des Monats in der Zeit zwischen 15-18 Uhr in den Räumen der Geschäftsstelle des Regionalmanagements in Oelsnitz/Erzgeb. statt. \nEine Voranmeldung ist nicht erforderlich. Für Fragen oder Anregungen steht das Team des Regionalmanagements zur Verfügung. \nHinweis: Repariert werden kleinere Geräte und Gegenstände\, bei denen kein Garantieanspruch mehr besteht. Elektronikgroßgeräte sind von einer Reparatur ausgeschlossen.  \nWeitere Informationen zu unserer ehrenamtlichen Arbeit gibt es >>hier<<.
URL:https://tor-zum-erzgebirge.de/termine/kreativcafe-kaputt-9-2-7-2-2/
LOCATION:Geschäftsstelle des LEADER-Regionalmanagements „Tor zum Erzgebirge“
CATEGORIES:Kreativcafé Kaputt
ATTACH;FMTTYPE=image/png:https://tor-zum-erzgebirge.de/wp-content/uploads/2024/12/KreativcafeKaputt.png
END:VEVENT
BEGIN:VEVENT
DTSTART;VALUE=DATE:20260303
DTEND;VALUE=DATE:20260305
DTSTAMP:20260425T142838
CREATED:20251203T101547Z
LAST-MODIFIED:20251203T101547Z
UID:3940-1772496000-1772668799@tor-zum-erzgebirge.de
SUMMARY:Workshop "LEADER hält zusammen. Demokratischer Umgang mit Populismus und extremen Positionen"
DESCRIPTION:
URL:https://tor-zum-erzgebirge.de/termine/workshop-leader-haelt-zusammen-demokratischer-umgang-mit-populismus-und-extremen-positionen/
LOCATION:Schweinfurt
CATEGORIES:Weitere Veranstaltungen
END:VEVENT
BEGIN:VEVENT
DTSTART;VALUE=DATE:20260325
DTEND;VALUE=DATE:20260326
DTSTAMP:20260425T142838
CREATED:20251203T101852Z
LAST-MODIFIED:20251203T101928Z
UID:3948-1774396800-1774483199@tor-zum-erzgebirge.de
SUMMARY:Exkursion in den Sächsischen Landtag
DESCRIPTION:
URL:https://tor-zum-erzgebirge.de/termine/exkursion-in-den-saechsischen-landtag/
CATEGORIES:Weitere Veranstaltungen
END:VEVENT
END:VCALENDAR